BEGIN:VCALENDAR
VERSION:2.0
PRODID:-//Freie Waldorfschule Sankt Augustin - ECPv6.15.20//NONSGML v1.0//EN
CALSCALE:GREGORIAN
METHOD:PUBLISH
X-WR-CALNAME:Freie Waldorfschule Sankt Augustin
X-ORIGINAL-URL:https://waldorfschule-sankt-augustin.de
X-WR-CALDESC:Veranstaltungen für Freie Waldorfschule Sankt Augustin
REFRESH-INTERVAL;VALUE=DURATION:PT1H
X-Robots-Tag:noindex
X-PUBLISHED-TTL:PT1H
BEGIN:VTIMEZONE
TZID:Europe/Berlin
BEGIN:DAYLIGHT
TZOFFSETFROM:+0100
TZOFFSETTO:+0200
TZNAME:CEST
DTSTART:20250330T010000
END:DAYLIGHT
BEGIN:STANDARD
TZOFFSETFROM:+0200
TZOFFSETTO:+0100
TZNAME:CET
DTSTART:20251026T010000
END:STANDARD
BEGIN:DAYLIGHT
TZOFFSETFROM:+0100
TZOFFSETTO:+0200
TZNAME:CEST
DTSTART:20260329T010000
END:DAYLIGHT
BEGIN:STANDARD
TZOFFSETFROM:+0200
TZOFFSETTO:+0100
TZNAME:CET
DTSTART:20261025T010000
END:STANDARD
BEGIN:DAYLIGHT
TZOFFSETFROM:+0100
TZOFFSETTO:+0200
TZNAME:CEST
DTSTART:20270328T010000
END:DAYLIGHT
BEGIN:STANDARD
TZOFFSETFROM:+0200
TZOFFSETTO:+0100
TZNAME:CET
DTSTART:20271031T010000
END:STANDARD
END:VTIMEZONE
BEGIN:VEVENT
DTSTART;TZID=Europe/Berlin:20260426T100000
DTEND;TZID=Europe/Berlin:20260426T150000
DTSTAMP:20260424T105925
CREATED:20260420T104449Z
LAST-MODIFIED:20260420T104449Z
UID:4848-1777197600-1777215600@waldorfschule-sankt-augustin.de
SUMMARY:Flohmarkt an der Schule
DESCRIPTION:
URL:https://waldorfschule-sankt-augustin.de/veranstaltung/flohmarkt-an-der-schule-2/
LOCATION:Schulgelände\, Graf-Zeppelin-Straße 7\, Sankt Augustin\, 53757
CATEGORIES:Flohmarkt
END:VEVENT
END:VCALENDAR